BEGIN:VCALENDAR
VERSION:2.0
PRODID:-//Township of Jocelyn - ECPv6.15.17.1//NONSGML v1.0//EN
CALSCALE:GREGORIAN
METHOD:PUBLISH
X-ORIGINAL-URL:https://jocelyn.ca
X-WR-CALDESC:Events for Township of Jocelyn
REFRESH-INTERVAL;VALUE=DURATION:PT1H
X-Robots-Tag:noindex
X-PUBLISHED-TTL:PT1H
BEGIN:VTIMEZONE
TZID:America/Toronto
BEGIN:DAYLIGHT
TZOFFSETFROM:-0500
TZOFFSETTO:-0400
TZNAME:EDT
DTSTART:20250309T070000
END:DAYLIGHT
BEGIN:STANDARD
TZOFFSETFROM:-0400
TZOFFSETTO:-0500
TZNAME:EST
DTSTART:20251102T060000
END:STANDARD
BEGIN:DAYLIGHT
TZOFFSETFROM:-0500
TZOFFSETTO:-0400
TZNAME:EDT
DTSTART:20260308T070000
END:DAYLIGHT
BEGIN:STANDARD
TZOFFSETFROM:-0400
TZOFFSETTO:-0500
TZNAME:EST
DTSTART:20261101T060000
END:STANDARD
BEGIN:DAYLIGHT
TZOFFSETFROM:-0500
TZOFFSETTO:-0400
TZNAME:EDT
DTSTART:20270314T070000
END:DAYLIGHT
BEGIN:STANDARD
TZOFFSETFROM:-0400
TZOFFSETTO:-0500
TZNAME:EST
DTSTART:20271107T060000
END:STANDARD
END:VTIMEZONE
BEGIN:VEVENT
DTSTART;TZID=America/Toronto:20260503T120000
DTEND;TZID=America/Toronto:20260503T200000
DTSTAMP:20260422T180016
CREATED:20260401T151338Z
LAST-MODIFIED:20260401T151338Z
UID:6010-1777809600-1777838400@jocelyn.ca
SUMMARY:Landfill Open
DESCRIPTION:
URL:https://jocelyn.ca/event/landfill-open-6/
LOCATION:Ontario
END:VEVENT
BEGIN:VEVENT
DTSTART;TZID=America/Toronto:20260503T120000
DTEND;TZID=America/Toronto:20260503T200000
DTSTAMP:20260422T180016
CREATED:20260401T154328Z
LAST-MODIFIED:20260407T185846Z
UID:6061-1777809600-1777838400@jocelyn.ca
SUMMARY:Share Shed Open
DESCRIPTION:
URL:https://jocelyn.ca/event/share-shed-open-9/
LOCATION:Ontario
END:VEVENT
BEGIN:VEVENT
DTSTART;TZID=America/Toronto:20260506T120000
DTEND;TZID=America/Toronto:20260506T200000
DTSTAMP:20260422T180016
CREATED:20260401T151417Z
LAST-MODIFIED:20260401T151417Z
UID:6012-1778068800-1778097600@jocelyn.ca
SUMMARY:Landfill Open
DESCRIPTION:
URL:https://jocelyn.ca/event/landfill-open-7/
LOCATION:Ontario
END:VEVENT
BEGIN:VEVENT
DTSTART;TZID=America/Toronto:20260506T120000
DTEND;TZID=America/Toronto:20260506T200000
DTSTAMP:20260422T180016
CREATED:20260401T154405Z
LAST-MODIFIED:20260407T185916Z
UID:6063-1778068800-1778097600@jocelyn.ca
SUMMARY:Share Shed Open
DESCRIPTION:
URL:https://jocelyn.ca/event/share-shed-open-10/
LOCATION:Ontario
END:VEVENT
BEGIN:VEVENT
DTSTART;TZID=America/Toronto:20260510T120000
DTEND;TZID=America/Toronto:20260510T200000
DTSTAMP:20260422T180016
CREATED:20260401T151504Z
LAST-MODIFIED:20260401T151504Z
UID:6014-1778414400-1778443200@jocelyn.ca
SUMMARY:Landfill Open
DESCRIPTION:
URL:https://jocelyn.ca/event/landfill-open-8/
LOCATION:Ontario
END:VEVENT
BEGIN:VEVENT
DTSTART;TZID=America/Toronto:20260510T120000
DTEND;TZID=America/Toronto:20260510T200000
DTSTAMP:20260422T180016
CREATED:20260401T154443Z
LAST-MODIFIED:20260407T185958Z
UID:6065-1778414400-1778443200@jocelyn.ca
SUMMARY:Share Shed Open
DESCRIPTION:
URL:https://jocelyn.ca/event/share-shed-open-11/
LOCATION:Ontario
END:VEVENT
BEGIN:VEVENT
DTSTART;TZID=America/Toronto:20260513T120000
DTEND;TZID=America/Toronto:20260513T200000
DTSTAMP:20260422T180016
CREATED:20260401T151619Z
LAST-MODIFIED:20260401T151619Z
UID:6016-1778673600-1778702400@jocelyn.ca
SUMMARY:Landfill Open
DESCRIPTION:
URL:https://jocelyn.ca/event/landfill-open-9/
LOCATION:Ontario
END:VEVENT
BEGIN:VEVENT
DTSTART;TZID=America/Toronto:20260513T120000
DTEND;TZID=America/Toronto:20260513T200000
DTSTAMP:20260422T180016
CREATED:20260401T154522Z
LAST-MODIFIED:20260407T190018Z
UID:6067-1778673600-1778702400@jocelyn.ca
SUMMARY:Share Shed Open
DESCRIPTION:
URL:https://jocelyn.ca/event/share-shed-open-12/
LOCATION:Ontario
END:VEVENT
BEGIN:VEVENT
DTSTART;VALUE=DATE:20260517
DTEND;VALUE=DATE:20260518
DTSTAMP:20260422T180016
CREATED:20260401T153444Z
LAST-MODIFIED:20260401T153444Z
UID:6047-1778976000-1779062399@jocelyn.ca
SUMMARY:Landfill Closed
DESCRIPTION:
URL:https://jocelyn.ca/event/landfill-closed/
LOCATION:Ontario
END:VEVENT
BEGIN:VEVENT
DTSTART;VALUE=DATE:20260518
DTEND;VALUE=DATE:20260519
DTSTAMP:20260422T180016
CREATED:20260401T152003Z
LAST-MODIFIED:20260401T154040Z
UID:6018-1779062400-1779148799@jocelyn.ca
SUMMARY:Office Closed - Victoria Day
DESCRIPTION:
URL:https://jocelyn.ca/event/victoria-day-office-closed/
LOCATION:Ontario
END:VEVENT
BEGIN:VEVENT
DTSTART;TZID=America/Toronto:20260518T120000
DTEND;TZID=America/Toronto:20260518T170000
DTSTAMP:20260422T180016
CREATED:20260401T153515Z
LAST-MODIFIED:20260401T153515Z
UID:6049-1779105600-1779123600@jocelyn.ca
SUMMARY:Landfill Open
DESCRIPTION:
URL:https://jocelyn.ca/event/landfill-open-12/
LOCATION:Ontario
END:VEVENT
BEGIN:VEVENT
DTSTART;TZID=America/Toronto:20260518T120000
DTEND;TZID=America/Toronto:20260518T170000
DTSTAMP:20260422T180016
CREATED:20260407T191954Z
LAST-MODIFIED:20260407T191954Z
UID:6167-1779105600-1779123600@jocelyn.ca
SUMMARY:Share Shed Open
DESCRIPTION:
URL:https://jocelyn.ca/event/share-shed-open-17/
LOCATION:Ontario
END:VEVENT
BEGIN:VEVENT
DTSTART;TZID=America/Toronto:20260520T120000
DTEND;TZID=America/Toronto:20260520T200000
DTSTAMP:20260422T180016
CREATED:20260401T153724Z
LAST-MODIFIED:20260401T153724Z
UID:6051-1779278400-1779307200@jocelyn.ca
SUMMARY:Landfill Open
DESCRIPTION:
URL:https://jocelyn.ca/event/landfill-open-14/
LOCATION:Ontario
END:VEVENT
BEGIN:VEVENT
DTSTART;TZID=America/Toronto:20260520T120000
DTEND;TZID=America/Toronto:20260520T200000
DTSTAMP:20260422T180016
CREATED:20260401T154605Z
LAST-MODIFIED:20260407T191858Z
UID:6069-1779278400-1779307200@jocelyn.ca
SUMMARY:Share Shed Open
DESCRIPTION:
URL:https://jocelyn.ca/event/share-shed-open-13/
LOCATION:Ontario
END:VEVENT
BEGIN:VEVENT
DTSTART;TZID=America/Toronto:20260524T120000
DTEND;TZID=America/Toronto:20260524T200000
DTSTAMP:20260422T180016
CREATED:20260401T154208Z
LAST-MODIFIED:20260401T154208Z
UID:6057-1779624000-1779652800@jocelyn.ca
SUMMARY:Landfill Open
DESCRIPTION:
URL:https://jocelyn.ca/event/landfill-open-16/
LOCATION:Ontario
END:VEVENT
BEGIN:VEVENT
DTSTART;TZID=America/Toronto:20260524T120000
DTEND;TZID=America/Toronto:20260524T200000
DTSTAMP:20260422T180016
CREATED:20260401T154656Z
LAST-MODIFIED:20260407T191841Z
UID:6071-1779624000-1779652800@jocelyn.ca
SUMMARY:Share Shed Open
DESCRIPTION:
URL:https://jocelyn.ca/event/share-shed-open-14/
LOCATION:Ontario
END:VEVENT
BEGIN:VEVENT
DTSTART;VALUE=DATE:20260527
DTEND;VALUE=DATE:20260528
DTSTAMP:20260422T180016
CREATED:20260327T181418Z
LAST-MODIFIED:20260327T181418Z
UID:5910-1779840000-1779926399@jocelyn.ca
SUMMARY:Property Taxes - Second Installment Due
DESCRIPTION:
URL:https://jocelyn.ca/event/property-taxes-second-installment-due/
LOCATION:Ontario
END:VEVENT
BEGIN:VEVENT
DTSTART;TZID=America/Toronto:20260527T120000
DTEND;TZID=America/Toronto:20260527T200000
DTSTAMP:20260422T180016
CREATED:20260401T153752Z
LAST-MODIFIED:20260401T153752Z
UID:6053-1779883200-1779912000@jocelyn.ca
SUMMARY:Landfill Open
DESCRIPTION:
URL:https://jocelyn.ca/event/landfill-open-15/
LOCATION:Ontario
END:VEVENT
BEGIN:VEVENT
DTSTART;TZID=America/Toronto:20260527T120000
DTEND;TZID=America/Toronto:20260527T200000
DTSTAMP:20260422T180016
CREATED:20260401T154728Z
LAST-MODIFIED:20260407T191754Z
UID:6073-1779883200-1779912000@jocelyn.ca
SUMMARY:Share Shed Open
DESCRIPTION:
URL:https://jocelyn.ca/event/share-shed-open-15/
LOCATION:Ontario
END:VEVENT
BEGIN:VEVENT
DTSTART;TZID=America/Toronto:20260531T120000
DTEND;TZID=America/Toronto:20260531T200000
DTSTAMP:20260422T180016
CREATED:20260401T154233Z
LAST-MODIFIED:20260401T154233Z
UID:6059-1780228800-1780257600@jocelyn.ca
SUMMARY:Landfill Open
DESCRIPTION:
URL:https://jocelyn.ca/event/landfill-open-17/
LOCATION:Ontario
END:VEVENT
BEGIN:VEVENT
DTSTART;TZID=America/Toronto:20260531T120000
DTEND;TZID=America/Toronto:20260531T200000
DTSTAMP:20260422T180016
CREATED:20260401T154752Z
LAST-MODIFIED:20260407T191735Z
UID:6075-1780228800-1780257600@jocelyn.ca
SUMMARY:Share Shed Open
DESCRIPTION:
URL:https://jocelyn.ca/event/share-shed-open-16/
LOCATION:Ontario
END:VEVENT
END:VCALENDAR