BEGIN:VCALENDAR
VERSION:2.0
PRODID:-//Township of Jocelyn - ECPv6.15.17.1//NONSGML v1.0//EN
CALSCALE:GREGORIAN
METHOD:PUBLISH
X-WR-CALNAME:Township of Jocelyn
X-ORIGINAL-URL:https://jocelyn.ca
X-WR-CALDESC:Events for Township of Jocelyn
REFRESH-INTERVAL;VALUE=DURATION:PT1H
X-Robots-Tag:noindex
X-PUBLISHED-TTL:PT1H
BEGIN:VTIMEZONE
TZID:America/Toronto
BEGIN:DAYLIGHT
TZOFFSETFROM:-0500
TZOFFSETTO:-0400
TZNAME:EDT
DTSTART:20250309T070000
END:DAYLIGHT
BEGIN:STANDARD
TZOFFSETFROM:-0400
TZOFFSETTO:-0500
TZNAME:EST
DTSTART:20251102T060000
END:STANDARD
BEGIN:DAYLIGHT
TZOFFSETFROM:-0500
TZOFFSETTO:-0400
TZNAME:EDT
DTSTART:20260308T070000
END:DAYLIGHT
BEGIN:STANDARD
TZOFFSETFROM:-0400
TZOFFSETTO:-0500
TZNAME:EST
DTSTART:20261101T060000
END:STANDARD
BEGIN:DAYLIGHT
TZOFFSETFROM:-0500
TZOFFSETTO:-0400
TZNAME:EDT
DTSTART:20270314T070000
END:DAYLIGHT
BEGIN:STANDARD
TZOFFSETFROM:-0400
TZOFFSETTO:-0500
TZNAME:EST
DTSTART:20271107T060000
END:STANDARD
END:VTIMEZONE
BEGIN:VEVENT
DTSTART;TZID=America/Toronto:20260408T120000
DTEND;TZID=America/Toronto:20260408T170000
DTSTAMP:20260422T161917
CREATED:20260401T151027Z
LAST-MODIFIED:20260401T151027Z
UID:6002-1775649600-1775667600@jocelyn.ca
SUMMARY:Landfill Open
DESCRIPTION:
URL:https://jocelyn.ca/event/landfill-open-2/
LOCATION:Ontario
END:VEVENT
BEGIN:VEVENT
DTSTART;TZID=America/Toronto:20260408T120000
DTEND;TZID=America/Toronto:20260408T170000
DTSTAMP:20260422T161917
CREATED:20260401T152441Z
LAST-MODIFIED:20260407T185338Z
UID:6026-1775649600-1775667600@jocelyn.ca
SUMMARY:Share Shed Open
DESCRIPTION:
URL:https://jocelyn.ca/event/share-shed-open-5/
LOCATION:Ontario
END:VEVENT
BEGIN:VEVENT
DTSTART;TZID=America/Toronto:20260408T190000
DTEND;TZID=America/Toronto:20260408T210000
DTSTAMP:20260422T161917
CREATED:20260327T180311Z
LAST-MODIFIED:20260409T185216Z
UID:5904-1775674800-1775682000@jocelyn.ca
SUMMARY:Regular Council Meeting
DESCRIPTION:
URL:https://jocelyn.ca/event/regular-council-meeting/
LOCATION:Jocelyn Township Municipal Office\, 3670 5th Side Road\, Hilton Beach\, Ontario
END:VEVENT
END:VCALENDAR