BEGIN:VCALENDAR
VERSION:2.0
PRODID:-//Township of Jocelyn - ECPv6.15.17.1//NONSGML v1.0//EN
CALSCALE:GREGORIAN
METHOD:PUBLISH
X-ORIGINAL-URL:https://jocelyn.ca
X-WR-CALDESC:Events for Township of Jocelyn
REFRESH-INTERVAL;VALUE=DURATION:PT1H
X-Robots-Tag:noindex
X-PUBLISHED-TTL:PT1H
BEGIN:VTIMEZONE
TZID:America/Toronto
BEGIN:DAYLIGHT
TZOFFSETFROM:-0500
TZOFFSETTO:-0400
TZNAME:EDT
DTSTART:20250309T070000
END:DAYLIGHT
BEGIN:STANDARD
TZOFFSETFROM:-0400
TZOFFSETTO:-0500
TZNAME:EST
DTSTART:20251102T060000
END:STANDARD
BEGIN:DAYLIGHT
TZOFFSETFROM:-0500
TZOFFSETTO:-0400
TZNAME:EDT
DTSTART:20260308T070000
END:DAYLIGHT
BEGIN:STANDARD
TZOFFSETFROM:-0400
TZOFFSETTO:-0500
TZNAME:EST
DTSTART:20261101T060000
END:STANDARD
BEGIN:DAYLIGHT
TZOFFSETFROM:-0500
TZOFFSETTO:-0400
TZNAME:EDT
DTSTART:20270314T070000
END:DAYLIGHT
BEGIN:STANDARD
TZOFFSETFROM:-0400
TZOFFSETTO:-0500
TZNAME:EST
DTSTART:20271107T060000
END:STANDARD
END:VTIMEZONE
BEGIN:VEVENT
DTSTART;VALUE=DATE:20260406
DTEND;VALUE=DATE:20260407
DTSTAMP:20260422T162041
CREATED:20260401T152540Z
LAST-MODIFIED:20260401T152540Z
UID:6030-1775433600-1775519999@jocelyn.ca
SUMMARY:Office Closed - Easter Monday
DESCRIPTION:
URL:https://jocelyn.ca/event/office-closed-easter-monday/
LOCATION:Ontario
END:VEVENT
BEGIN:VEVENT
DTSTART;TZID=America/Toronto:20260406T120000
DTEND;TZID=America/Toronto:20260406T170000
DTSTAMP:20260422T162041
CREATED:20260401T173107Z
LAST-MODIFIED:20260401T173107Z
UID:6099-1775476800-1775494800@jocelyn.ca
SUMMARY:Landfill Open
DESCRIPTION:
URL:https://jocelyn.ca/event/landfill-open-18/
LOCATION:Ontario
END:VEVENT
BEGIN:VEVENT
DTSTART;TZID=America/Toronto:20260406T120000
DTEND;TZID=America/Toronto:20260406T170000
DTSTAMP:20260422T162041
CREATED:20260401T173223Z
LAST-MODIFIED:20260401T173244Z
UID:6103-1775476800-1775494800@jocelyn.ca
SUMMARY:Share Shed Open
DESCRIPTION:
URL:https://jocelyn.ca/event/share-shed/
LOCATION:Ontario
END:VEVENT
END:VCALENDAR